BEGIN:VCALENDAR
VERSION:2.0
PRODID:-//eventon.com NONSGML v1.0//EN
CALSCALE:GREGORIAN
METHOD:PUBLISH
BEGIN:VEVENT
UID:69ea4173ecbd4
DTSTAMP:20260423T155739Z
DTSTART:20260613T080000Z
DTEND:20260613T113000Z
LOCATION:
SUMMARY:Community Tag Sale
DESCRIPTION:$10 per table &#8211; call the church office to reserve a table
 .\nhttps://flaggroaducc.com/events/community-tag-sale/
URL:https://flaggroaducc.com/events/community-tag-sale/
END:VEVENT
END:VCALENDAR