BEGIN:VCALENDAR
VERSION:2.0
PRODID:-//eventon.com NONSGML v1.0//EN
CALSCALE:GREGORIAN
METHOD:PUBLISH
BEGIN:VEVENT
UID:69ea41738c215
DTSTAMP:20260423T155739Z
DTSTART:20261025T100000Z
DTEND:20261025T110000Z
LOCATION:
SUMMARY:10 am Worship Service
DESCRIPTION:\nhttps://flaggroaducc.com/events/10-am-worship-service-28/
URL:https://flaggroaducc.com/events/10-am-worship-service-28/
END:VEVENT
END:VCALENDAR