BEGIN:VCALENDAR
VERSION:2.0
PRODID:-//eventon.com NONSGML v1.0//EN
CALSCALE:GREGORIAN
METHOD:PUBLISH
BEGIN:VEVENT
UID:69ea41d9ecc99
DTSTAMP:20260423T155921Z
DTSTART:20261018T100000Z
DTEND:20261018T110000Z
LOCATION:
SUMMARY:10 am Worship Service
DESCRIPTION:\nhttps://flaggroaducc.com/events/10-am-worship-service-27/
URL:https://flaggroaducc.com/events/10-am-worship-service-27/
END:VEVENT
END:VCALENDAR