BEGIN:VCALENDAR
VERSION:2.0
PRODID:-//eventon.com NONSGML v1.0//EN
CALSCALE:GREGORIAN
METHOD:PUBLISH
BEGIN:VEVENT
UID:69ea421ef0cb8
DTSTAMP:20260423T160030Z
DTSTART:20261011T100000Z
DTEND:20261011T110000Z
LOCATION:
SUMMARY:10 am Worship Service
DESCRIPTION:\nhttps://flaggroaducc.com/events/10-am-worship-service-26/
URL:https://flaggroaducc.com/events/10-am-worship-service-26/
END:VEVENT
END:VCALENDAR