BEGIN:VCALENDAR
VERSION:2.0
PRODID:-//eventon.com NONSGML v1.0//EN
CALSCALE:GREGORIAN
METHOD:PUBLISH
BEGIN:VEVENT
UID:69ea4167ce83d
DTSTAMP:20260423T155727Z
DTSTART:20261004T100000Z
DTEND:20261004T110000Z
LOCATION:
SUMMARY:10 am Worship Service
DESCRIPTION:\nhttps://flaggroaducc.com/events/10-am-worship-service-25/
URL:https://flaggroaducc.com/events/10-am-worship-service-25/
END:VEVENT
END:VCALENDAR