BEGIN:VCALENDAR
VERSION:2.0
PRODID:-//eventon.com NONSGML v1.0//EN
CALSCALE:GREGORIAN
METHOD:PUBLISH
BEGIN:VEVENT
UID:69ea320322814
DTSTAMP:20260423T145147Z
DTSTART:20260920T100000Z
DTEND:20260920T110000Z
LOCATION:
SUMMARY:10 am Worship Service
DESCRIPTION:\nhttps://flaggroaducc.com/events/10-am-worship-service-23/
URL:https://flaggroaducc.com/events/10-am-worship-service-23/
END:VEVENT
END:VCALENDAR