BEGIN:VCALENDAR
VERSION:2.0
PRODID:-//eventon.com NONSGML v1.0//EN
CALSCALE:GREGORIAN
METHOD:PUBLISH
BEGIN:VEVENT
UID:69ea321a520c1
DTSTAMP:20260423T145210Z
DTSTART:20260913T100000Z
DTEND:20260913T110000Z
LOCATION:
SUMMARY:10 am Worship Service
DESCRIPTION:\nhttps://flaggroaducc.com/events/10-am-worship-service-22/
URL:https://flaggroaducc.com/events/10-am-worship-service-22/
END:VEVENT
END:VCALENDAR