BEGIN:VCALENDAR
VERSION:2.0
PRODID:-//eventon.com NONSGML v1.0//EN
CALSCALE:GREGORIAN
METHOD:PUBLISH
BEGIN:VEVENT
UID:69ea41cb50ad9
DTSTAMP:20260423T155907Z
DTSTART:20260906T100000Z
DTEND:20260906T110000Z
LOCATION:
SUMMARY:10 am Worship Service
DESCRIPTION:\nhttps://flaggroaducc.com/events/10-am-worship-service-21/
URL:https://flaggroaducc.com/events/10-am-worship-service-21/
END:VEVENT
END:VCALENDAR