BEGIN:VCALENDAR
VERSION:2.0
PRODID:-//eventon.com NONSGML v1.0//EN
CALSCALE:GREGORIAN
METHOD:PUBLISH
BEGIN:VEVENT
UID:69ea41ac38590
DTSTAMP:20260423T155836Z
DTSTART:20260823T100000Z
DTEND:20260823T110000Z
LOCATION:
SUMMARY:10 am Worship Service
DESCRIPTION:\nhttps://flaggroaducc.com/events/10-am-worship-service-19/
URL:https://flaggroaducc.com/events/10-am-worship-service-19/
END:VEVENT
END:VCALENDAR