BEGIN:VCALENDAR
VERSION:2.0
PRODID:-//eventon.com NONSGML v1.0//EN
CALSCALE:GREGORIAN
METHOD:PUBLISH
BEGIN:VEVENT
UID:69ea421edec61
DTSTAMP:20260423T160030Z
DTSTART:20260816T100000Z
DTEND:20260816T110000Z
LOCATION:
SUMMARY:10 am Worship Service
DESCRIPTION:\nhttps://flaggroaducc.com/events/10-am-worship-service-18/
URL:https://flaggroaducc.com/events/10-am-worship-service-18/
END:VEVENT
END:VCALENDAR