BEGIN:VCALENDAR
VERSION:2.0
PRODID:-//eventon.com NONSGML v1.0//EN
CALSCALE:GREGORIAN
METHOD:PUBLISH
BEGIN:VEVENT
UID:69ea4237b1c0b
DTSTAMP:20260423T160055Z
DTSTART:20260802T100000Z
DTEND:20260802T110000Z
LOCATION:
SUMMARY:10 am Worship Service
DESCRIPTION:\nhttps://flaggroaducc.com/events/10-am-worship-service-16/
URL:https://flaggroaducc.com/events/10-am-worship-service-16/
END:VEVENT
END:VCALENDAR