BEGIN:VCALENDAR
VERSION:2.0
PRODID:-//eventon.com NONSGML v1.0//EN
CALSCALE:GREGORIAN
METHOD:PUBLISH
BEGIN:VEVENT
UID:69ea31695d7d5
DTSTAMP:20260423T144913Z
DTSTART:20260726T100000Z
DTEND:20260726T110000Z
LOCATION:
SUMMARY:10 am Worship Service
DESCRIPTION:\nhttps://flaggroaducc.com/events/10-am-worship-service-15/
URL:https://flaggroaducc.com/events/10-am-worship-service-15/
END:VEVENT
END:VCALENDAR