BEGIN:VCALENDAR
VERSION:2.0
PRODID:-//eventon.com NONSGML v1.0//EN
CALSCALE:GREGORIAN
METHOD:PUBLISH
BEGIN:VEVENT
UID:69ea31d01702c
DTSTAMP:20260423T145056Z
DTSTART:20260719T100000Z
DTEND:20260719T110000Z
LOCATION:
SUMMARY:10 am Worship Service
DESCRIPTION:\nhttps://flaggroaducc.com/events/10-am-worship-service-14/
URL:https://flaggroaducc.com/events/10-am-worship-service-14/
END:VEVENT
END:VCALENDAR