BEGIN:VCALENDAR
VERSION:2.0
PRODID:-//eventon.com NONSGML v1.0//EN
CALSCALE:GREGORIAN
METHOD:PUBLISH
BEGIN:VEVENT
UID:69ea423e77594
DTSTAMP:20260423T160102Z
DTSTART:20260621T100000Z
DTEND:20260621T110000Z
LOCATION:
SUMMARY:10 am Worship Service
DESCRIPTION:\nhttps://flaggroaducc.com/events/10-am-worship-service-10/
URL:https://flaggroaducc.com/events/10-am-worship-service-10/
END:VEVENT
END:VCALENDAR