BEGIN:VCALENDAR
VERSION:2.0
PRODID:-//eventon.com NONSGML v1.0//EN
CALSCALE:GREGORIAN
METHOD:PUBLISH
BEGIN:VEVENT
UID:69ea420845a21
DTSTAMP:20260423T160008Z
DTSTART:20261213T150000Z
DTEND:20261213T170000Z
LOCATION:
SUMMARY:Carol Sing
DESCRIPTION:\nhttps://flaggroaducc.com/events/carol-sing-2/
URL:https://flaggroaducc.com/events/carol-sing-2/
END:VEVENT
END:VCALENDAR