BEGIN:VCALENDAR
VERSION:2.0
PRODID:-//eventon.com NONSGML v1.0//EN
CALSCALE:GREGORIAN
METHOD:PUBLISH
BEGIN:VEVENT
UID:69ea320323481
DTSTAMP:20260423T145147Z
DTSTART:20261011T140000Z
DTEND:20261011T160000Z
LOCATION:
SUMMARY:FRUCC Children's Clothing Exchange
DESCRIPTION:\nhttps://flaggroaducc.com/events/frucc-childrens-clothing-exch
 ange/
URL:https://flaggroaducc.com/events/frucc-childrens-clothing-exchange/
END:VEVENT
END:VCALENDAR