BEGIN:VCALENDAR
VERSION:2.0
PRODID:-//eventon.com NONSGML v1.0//EN
CALSCALE:GREGORIAN
METHOD:PUBLISH
BEGIN:VEVENT
UID:69ea31a656ba0
DTSTAMP:20260423T145014Z
DTSTART:20261009T160000Z
DTEND:20261009T190000Z
LOCATION:
SUMMARY:FRUCC Children's Clothing Exchange Drop Off
DESCRIPTION:\nhttps://flaggroaducc.com/events/frucc-childrens-clothing-exch
 ange-drop-off/
URL:https://flaggroaducc.com/events/frucc-childrens-clothing-exchange-drop-off/
END:VEVENT
END:VCALENDAR