BEGIN:VCALENDAR
VERSION:2.0
PRODID:-//eventon.com NONSGML v1.0//EN
CALSCALE:GREGORIAN
METHOD:PUBLISH
BEGIN:VEVENT
UID:69ea420e767db
DTSTAMP:20260423T160014Z
DTSTART:20260926T100000Z
DTEND:20260926T150000Z
LOCATION:
SUMMARY:Annual FRUCC Food Drive
DESCRIPTION:\nhttps://flaggroaducc.com/events/annual-frucc-food-drive/
URL:https://flaggroaducc.com/events/annual-frucc-food-drive/
END:VEVENT
END:VCALENDAR