BEGIN:VCALENDAR
VERSION:2.0
PRODID:-//eventon.com NONSGML v1.0//EN
CALSCALE:GREGORIAN
METHOD:PUBLISH
BEGIN:VEVENT
UID:69ea41ac329ed
DTSTAMP:20260423T155836Z
DTSTART:20260524T100000Z
DTEND:20260524T110000Z
LOCATION:
SUMMARY:10 am Worship Service
DESCRIPTION:\nhttps://flaggroaducc.com/events/10-am-worship-service-6/
URL:https://flaggroaducc.com/events/10-am-worship-service-6/
END:VEVENT
END:VCALENDAR