BEGIN:VCALENDAR
VERSION:2.0
PRODID:-//eventon.com NONSGML v1.0//EN
CALSCALE:GREGORIAN
METHOD:PUBLISH
BEGIN:VEVENT
UID:69ea19b4589e7
DTSTAMP:20260423T130804Z
DTSTART:20260503T100000Z
DTEND:20260503T100000Z
LOCATION:
SUMMARY:10 am Worship Service
DESCRIPTION:\nhttps://flaggroaducc.com/events/10-am-worship-service-3/
URL:https://flaggroaducc.com/events/10-am-worship-service-3/
END:VEVENT
END:VCALENDAR