BEGIN:VCALENDAR
VERSION:2.0
PRODID:-//eventon.com NONSGML v1.0//EN
CALSCALE:GREGORIAN
METHOD:PUBLISH
BEGIN:VEVENT
UID:69ea1989248aa
DTSTAMP:20260423T130721Z
DTSTART:19700101
DTEND:19700102
LOCATION:
SUMMARY:Yoga: Most Saturdays at 9 a.m.
DESCRIPTION:\nhttps://flaggroaducc.com/events/yoga-most-saturdays-at-9-a-m-
 3/
URL:https://flaggroaducc.com/events/yoga-most-saturdays-at-9-a-m-3/
END:VEVENT
END:VCALENDAR